BEGIN:VCALENDAR
VERSION:2.0
PRODID:-//Grand Point Church - ECPv6.15.20//NONSGML v1.0//EN
CALSCALE:GREGORIAN
METHOD:PUBLISH
X-WR-CALNAME:Grand Point Church
X-ORIGINAL-URL:https://grandpoint.church
X-WR-CALDESC:Events for Grand Point Church
REFRESH-INTERVAL;VALUE=DURATION:PT1H
X-Robots-Tag:noindex
X-PUBLISHED-TTL:PT1H
BEGIN:VTIMEZONE
TZID:America/New_York
BEGIN:DAYLIGHT
TZOFFSETFROM:-0500
TZOFFSETTO:-0400
TZNAME:EDT
DTSTART:20250309T070000
END:DAYLIGHT
BEGIN:STANDARD
TZOFFSETFROM:-0400
TZOFFSETTO:-0500
TZNAME:EST
DTSTART:20251102T060000
END:STANDARD
BEGIN:DAYLIGHT
TZOFFSETFROM:-0500
TZOFFSETTO:-0400
TZNAME:EDT
DTSTART:20260308T070000
END:DAYLIGHT
BEGIN:STANDARD
TZOFFSETFROM:-0400
TZOFFSETTO:-0500
TZNAME:EST
DTSTART:20261101T060000
END:STANDARD
BEGIN:DAYLIGHT
TZOFFSETFROM:-0500
TZOFFSETTO:-0400
TZNAME:EDT
DTSTART:20270314T070000
END:DAYLIGHT
BEGIN:STANDARD
TZOFFSETFROM:-0400
TZOFFSETTO:-0500
TZNAME:EST
DTSTART:20271107T060000
END:STANDARD
END:VTIMEZONE
BEGIN:VEVENT
DTSTART;TZID=America/New_York:20260614T130000
DTEND;TZID=America/New_York:20260614T140000
DTSTAMP:20260423T054711
CREATED:20260129T182215Z
LAST-MODIFIED:20260129T182215Z
UID:3154-1781442000-1781445600@grandpoint.church
SUMMARY:PointYM High School Missions Trip Meeting
DESCRIPTION:This meeting is mandatory for all high school students\, parents\, and volunteers participating in the summer missions trip to Wheelwright\, Kentucky. The meeting will be held in B20 (the large youth room).
URL:https://grandpoint.church/event/pointym-high-school-missions-trip-meeting-4/
LOCATION:Grand Point Church Chambersburg\, 2230 Grand Point Rd.\, Chambersburg\, PA\, 17202\, United States
CATEGORIES:At a Glance
ORGANIZER;CN="The PointYM":MAILTO:cmagners@grandpoint.church
END:VEVENT
END:VCALENDAR